BEGIN:VCALENDAR
VERSION:2.0
PRODID:-//Squarespace Inc/Squarespace 6//v6//EN
BEGIN:VEVENT
UID:5bb2fec09140b7ea0ae0c4c7@squarespace.com
DTSTAMP:20191108T023006Z
DTSTART:20191108T063000Z
DTEND:20191225T223000Z
SUMMARY:The Big Give 2019
END:VEVENT
END:VCALENDAR
