BEGIN:VCALENDAR
VERSION:2.0
PRODID:-//Squarespace Inc/Squarespace 6//v6//EN
BEGIN:VEVENT
UID:5d929fedfb48423f80ec274e@squarespace.com
DTSTAMP:20191216T232231Z
DTSTART:20200312T140000Z
DTEND:20200312T210000Z
SUMMARY:Annual Golf Tournament 2020
END:VEVENT
END:VCALENDAR
